BEGIN:VCALENDAR
PRODID:-//HKUST Drupal Platform//EN
VERSION:2.0
BEGIN:VTIMEZONE
TZID:Asia/Hong_Kong
BEGIN:STANDARD
DTSTART:20071104T020000
TZOFFSETFROM:+0700
TZOFFSETTO:+0800
TZNAME:HKT
END:STANDARD
END:VTIMEZONE
BEGIN:VEVENT
DTSTAMP;TZID=Asia/Hong_Kong:20260421T020739
DTSTART;TZID=Asia/Hong_Kong:20251118T104500
DTEND;TZID=Asia/Hong_Kong:20251118T134500
LOCATION:Room 2408 (Lifts 17-18),  2/F Academic Building, HKUST
SUMMARY:PHD in Individual Interdisci Prog - Machine-Learning-Enabled Hardware Formal Verification
UID:45382
END:VEVENT
END:VCALENDAR