BEGIN:VCALENDAR
PRODID:-//HKUST Drupal Platform//EN
VERSION:2.0
BEGIN:VTIMEZONE
TZID:Asia/Hong_Kong
BEGIN:STANDARD
DTSTART:20071104T020000
TZOFFSETFROM:+0700
TZOFFSETTO:+0800
TZNAME:HKT
END:STANDARD
END:VTIMEZONE
BEGIN:VEVENT
DTSTAMP;TZID=Asia/Hong_Kong:20260420T192859
DTSTART;TZID=Asia/Hong_Kong:20251031T143000
DTEND;TZID=Asia/Hong_Kong:20251031T173000
LOCATION:E1-319, HKUST(GZ) / Zoom ID: 995 6311 5700, Passcode: dsa2025, HKUST
SUMMARY:PHD in Individual Interdisci Prog - Choose Wisely, Learn EfficientlyEffective Data and Model Selection Strategies for Efficient Machine Learning
UID:45318
END:VEVENT
END:VCALENDAR