BEGIN:VCALENDAR
PRODID:-//HKUST Drupal Platform//EN
VERSION:2.0
BEGIN:VTIMEZONE
TZID:Asia/Hong_Kong
BEGIN:STANDARD
DTSTART:20071104T020000
TZOFFSETFROM:+0700
TZOFFSETTO:+0800
TZNAME:HKT
END:STANDARD
END:VTIMEZONE
BEGIN:VEVENT
DTSTAMP;TZID=Asia/Hong_Kong:20260420T185634
DTSTART;TZID=Asia/Hong_Kong:20250926T140000
DTEND;TZID=Asia/Hong_Kong:20250926T153000
LOCATION:Tsang Shiu Tim Art Hall
SUMMARY:Water Resources and Sustainable Development: Special Lecture and Sustainable Smart Campus Project Demonstration  
UID:45266
END:VEVENT
END:VCALENDAR