BEGIN:VCALENDAR
PRODID:-//HKUST Drupal Platform//EN
VERSION:2.0
BEGIN:VTIMEZONE
TZID:Asia/Hong_Kong
BEGIN:STANDARD
DTSTART:20071104T020000
TZOFFSETFROM:+0700
TZOFFSETTO:+0800
TZNAME:HKT
END:STANDARD
END:VTIMEZONE
BEGIN:VEVENT
DTSTAMP;TZID=Asia/Hong_Kong:20260421T022932
DTSTART;TZID=Asia/Hong_Kong:20251014T090000
DTEND;TZID=Asia/Hong_Kong:20251014T120000
LOCATION:E4 - 201, HKUSTGZ Campus; Zoom Meeting ID: 959 6542 9776 Passcode: iott, HKUST
SUMMARY:PHD in Individual Interdisci Prog - Trustworthiness in Vertical Federated Learning: Privacy attacks, Robustness Vulnerabilities, and Secure Protocols
UID:45177
END:VEVENT
END:VCALENDAR