BEGIN:VCALENDAR
PRODID:-//HKUST Drupal Platform//EN
VERSION:2.0
BEGIN:VTIMEZONE
TZID:Asia/Hong_Kong
BEGIN:STANDARD
DTSTART:20071104T020000
TZOFFSETFROM:+0700
TZOFFSETTO:+0800
TZNAME:HKT
END:STANDARD
END:VTIMEZONE
BEGIN:VEVENT
DTSTAMP;TZID=Asia/Hong_Kong:20260420T220839
DTSTART;TZID=Asia/Hong_Kong:20250929T131500
DTEND;TZID=Asia/Hong_Kong:20250929T161500
LOCATION:E3-612, HKUST(GZ) / Zoom ID: 996 8844 8171, Passcode: dsa2025, HKUST
SUMMARY:PHD in Individual Interdisci Prog - Data Management for Scalable Deep Learning Pipelines over Data Streams
UID:45176
END:VEVENT
END:VCALENDAR