BEGIN:VCALENDAR
PRODID:-//HKUST Drupal Platform//EN
VERSION:2.0
BEGIN:VTIMEZONE
TZID:Asia/Hong_Kong
BEGIN:STANDARD
DTSTART:20071104T020000
TZOFFSETFROM:+0700
TZOFFSETTO:+0800
TZNAME:HKT
END:STANDARD
END:VTIMEZONE
BEGIN:VEVENT
DTSTAMP;TZID=Asia/Hong_Kong:20260421T020738
DTSTART;TZID=Asia/Hong_Kong:20251031T140000
DTEND;TZID=Asia/Hong_Kong:20251031T170000
LOCATION:Room 4472 (Lifts 25-26), 4/F Academic Building, HKUST
SUMMARY:MPhil in Chemistry - Modeling Mutation-Dependent Phase Separation of SARS-CoV-2 Nucleocapsidprotein and Full-Length gRNA at the Viral Scale
UID:45170
END:VEVENT
END:VCALENDAR