BEGIN:VCALENDAR
PRODID:-//HKUST Drupal Platform//EN
VERSION:2.0
BEGIN:VTIMEZONE
TZID:Asia/Hong_Kong
BEGIN:STANDARD
DTSTART:20071104T020000
TZOFFSETFROM:+0700
TZOFFSETTO:+0800
TZNAME:HKT
END:STANDARD
END:VTIMEZONE
BEGIN:VEVENT
DTSTAMP;TZID=Asia/Hong_Kong:20260420T185637
DTSTART;TZID=Asia/Hong_Kong:20251008T140000
DTEND;TZID=Asia/Hong_Kong:20251008T170000
LOCATION:Room 5501 (Lifts 25-26), 5/F Academic Building, HKUST
SUMMARY:MPhil in Computer Science & Engg - Enabling Explainable AI with Transformer Models: Opportunities and Limitations in Visual and Textual Concept Generation
UID:45049
END:VEVENT
END:VCALENDAR