BEGIN:VCALENDAR
PRODID:-//HKUST Drupal Platform//EN
VERSION:2.0
BEGIN:VTIMEZONE
TZID:Asia/Hong_Kong
BEGIN:STANDARD
DTSTART:20071104T020000
TZOFFSETFROM:+0700
TZOFFSETTO:+0800
TZNAME:HKT
END:STANDARD
END:VTIMEZONE
BEGIN:VEVENT
DTSTAMP;TZID=Asia/Hong_Kong:20260424T075941
DTSTART;TZID=Asia/Hong_Kong:20250901T000000
DTEND;TZID=Asia/Hong_Kong:20250919T235900
LOCATION:Shaw Auditorium
SUMMARY:Open Call for Lunchtime Performance in Moonlit Delights 2025 @ Shaw Auditorium
UID:45035
END:VEVENT
END:VCALENDAR