BEGIN:VCALENDAR
PRODID:-//HKUST Drupal Platform//EN
VERSION:2.0
BEGIN:VTIMEZONE
TZID:Asia/Hong_Kong
BEGIN:STANDARD
DTSTART:20071104T020000
TZOFFSETFROM:+0700
TZOFFSETTO:+0800
TZNAME:HKT
END:STANDARD
END:VTIMEZONE
BEGIN:VEVENT
DTSTAMP;TZID=Asia/Hong_Kong:20260420T192513
DTSTART;TZID=Asia/Hong_Kong:20250923T150000
DTEND;TZID=Asia/Hong_Kong:20250923T180000
LOCATION:Room 4472 (Lifts 25-26), 4/F Academic Building, HKUST
SUMMARY:PHD in Marine Environmental Sci - Polyphosphate Across Aquatic Gradients: Method Development and Ecosystem Studies in the Laurentian Great Lakes and the Subtropical South China Sea
UID:45027
END:VEVENT
END:VCALENDAR