BEGIN:VCALENDAR
PRODID:-//HKUST Drupal Platform//EN
VERSION:2.0
BEGIN:VTIMEZONE
TZID:Asia/Hong_Kong
BEGIN:STANDARD
DTSTART:20071104T020000
TZOFFSETFROM:+0700
TZOFFSETTO:+0800
TZNAME:HKT
END:STANDARD
END:VTIMEZONE
BEGIN:VEVENT
DTSTAMP;TZID=Asia/Hong_Kong:20260420T184700
DTSTART;TZID=Asia/Hong_Kong:20250918T110000
DTEND;TZID=Asia/Hong_Kong:20250918T120000
LOCATION:the Base, 1/F (Lift 29-30)
SUMMARY:[RESCHEDULED!] IP Seminar  - Achieving Robust IP Protection of AI/ML Digital Health and Precision Medicine Innovation
UID:45007
END:VEVENT
END:VCALENDAR