BEGIN:VCALENDAR
PRODID:-//HKUST Drupal Platform//EN
VERSION:2.0
BEGIN:VTIMEZONE
TZID:Asia/Hong_Kong
BEGIN:STANDARD
DTSTART:20071104T020000
TZOFFSETFROM:+0700
TZOFFSETTO:+0800
TZNAME:HKT
END:STANDARD
END:VTIMEZONE
BEGIN:VEVENT
DTSTAMP;TZID=Asia/Hong_Kong:20260424T075941
DTSTART;TZID=Asia/Hong_Kong:20250909T183000
DTEND;TZID=Asia/Hong_Kong:20250909T210000
LOCATION:Room G02, G/F, Shaw Auditorium
SUMMARY:Chinese Handcraft Workshops @ Shaw Auditorium
UID:44998
END:VEVENT
BEGIN:VEVENT
DTSTAMP;TZID=Asia/Hong_Kong:20260424T075941
DTSTART;TZID=Asia/Hong_Kong:20250910T183000
DTEND;TZID=Asia/Hong_Kong:20250910T210000
LOCATION:Room G02, G/F, Shaw Auditorium
SUMMARY:Chinese Handcraft Workshops @ Shaw Auditorium
UID:44998
END:VEVENT
END:VCALENDAR