BEGIN:VCALENDAR
PRODID:-//HKUST Drupal Platform//EN
VERSION:2.0
BEGIN:VTIMEZONE
TZID:Asia/Hong_Kong
BEGIN:STANDARD
DTSTART:20071104T020000
TZOFFSETFROM:+0700
TZOFFSETTO:+0800
TZNAME:HKT
END:STANDARD
END:VTIMEZONE
BEGIN:VEVENT
DTSTAMP;TZID=Asia/Hong_Kong:20260420T153659
DTSTART;TZID=Asia/Hong_Kong:20250901T170000
DTEND;TZID=Asia/Hong_Kong:20250901T183000
LOCATION:Room 2303 (2/F via Lifts 17-18), Academic Building, HKUST
SUMMARY:IAS Distinguished Lecture - Molecular Materials for Sustainability and Human Health
UID:44966
END:VEVENT
END:VCALENDAR