BEGIN:VCALENDAR
PRODID:-//HKUST Drupal Platform//EN
VERSION:2.0
BEGIN:VTIMEZONE
TZID:Asia/Hong_Kong
BEGIN:STANDARD
DTSTART:20071104T020000
TZOFFSETFROM:+0700
TZOFFSETTO:+0800
TZNAME:HKT
END:STANDARD
END:VTIMEZONE
BEGIN:VEVENT
DTSTAMP;TZID=Asia/Hong_Kong:20260420T220846
DTSTART;TZID=Asia/Hong_Kong:20250822T140000
DTEND;TZID=Asia/Hong_Kong:20250822T170000
LOCATION:Zoom Meeting ID: 957 5588 2604 Passcode: iott, E3, 202, HKUST
SUMMARY:PHD in Individual Interdisci Prog - Towards Trustworthy Intelligence: Safeguarding Privacy and Security in Machine Learning
UID:44928
END:VEVENT
END:VCALENDAR