BEGIN:VCALENDAR
PRODID:-//HKUST Drupal Platform//EN
VERSION:2.0
BEGIN:VTIMEZONE
TZID:Asia/Hong_Kong
BEGIN:STANDARD
DTSTART:20071104T020000
TZOFFSETFROM:+0700
TZOFFSETTO:+0800
TZNAME:HKT
END:STANDARD
END:VTIMEZONE
BEGIN:VEVENT
DTSTAMP;TZID=Asia/Hong_Kong:20260420T220947
DTSTART;TZID=Asia/Hong_Kong:20250915T143000
DTEND;TZID=Asia/Hong_Kong:20250915T173000
LOCATION: , HKUST
SUMMARY:DBA in Doctor of Business Admin - The Impact of Financial Leverage on Accrual-based Earnings Management: The Case of Chinese Real Estate Market and Three-Red-Line Policy
UID:44922
END:VEVENT
END:VCALENDAR