BEGIN:VCALENDAR
PRODID:-//HKUST Drupal Platform//EN
VERSION:2.0
BEGIN:VTIMEZONE
TZID:Asia/Hong_Kong
BEGIN:STANDARD
DTSTART:20071104T020000
TZOFFSETFROM:+0700
TZOFFSETTO:+0800
TZNAME:HKT
END:STANDARD
END:VTIMEZONE
BEGIN:VEVENT
DTSTAMP;TZID=Asia/Hong_Kong:20260420T192809
DTSTART;TZID=Asia/Hong_Kong:20250820T093000
DTEND;TZID=Asia/Hong_Kong:20250820T123000
LOCATION:Room 5508,(lift 25-26), 5/F Academic Building, HKUST
SUMMARY:PHD in Integrative Sys & Design - Laser induced copper-based nanostructures for non-invasive healthcare sensors.
UID:44902
END:VEVENT
END:VCALENDAR