BEGIN:VCALENDAR
PRODID:-//HKUST Drupal Platform//EN
VERSION:2.0
BEGIN:VTIMEZONE
TZID:Asia/Hong_Kong
BEGIN:STANDARD
DTSTART:20071104T020000
TZOFFSETFROM:+0700
TZOFFSETTO:+0800
TZNAME:HKT
END:STANDARD
END:VTIMEZONE
BEGIN:VEVENT
DTSTAMP;TZID=Asia/Hong_Kong:20260421T011158
DTSTART;TZID=Asia/Hong_Kong:20250811T160000
DTEND;TZID=Asia/Hong_Kong:20250811T190000
LOCATION:Room 5560 (Lifts 27/28), 5/F. Academic Building; https://hkust.zoom.us/j/93073041477?pwd=r1yza4r5d8oJUTQCKg4I1AzvUmSliU.1 (Meeting ID: 930 7304 1477 PWD: 849753), HKUST
SUMMARY:PHD in Mechanical Engineering - Engineering Superior Oxygen Electrodes for Protonic Ceramic Fuel Cells
UID:44888
END:VEVENT
END:VCALENDAR