BEGIN:VCALENDAR
PRODID:-//HKUST Drupal Platform//EN
VERSION:2.0
BEGIN:VTIMEZONE
TZID:Asia/Hong_Kong
BEGIN:STANDARD
DTSTART:20071104T020000
TZOFFSETFROM:+0700
TZOFFSETTO:+0800
TZNAME:HKT
END:STANDARD
END:VTIMEZONE
BEGIN:VEVENT
DTSTAMP;TZID=Asia/Hong_Kong:20260425T111632
DTSTART;TZID=Asia/Hong_Kong:20251013T183000
DTEND;TZID=Asia/Hong_Kong:20251013T200000
LOCATION:Room 209, Shaw Auditorium
SUMMARY:Six Lessons in Gongbi: A Journey Through Chinese Ink Painting工筆六課：中國畫的筆墨之旅
UID:44829
END:VEVENT
BEGIN:VEVENT
DTSTAMP;TZID=Asia/Hong_Kong:20260425T111632
DTSTART;TZID=Asia/Hong_Kong:20251020T183000
DTEND;TZID=Asia/Hong_Kong:20251020T200000
LOCATION:Room 209, Shaw Auditorium
SUMMARY:Six Lessons in Gongbi: A Journey Through Chinese Ink Painting工筆六課：中國畫的筆墨之旅
UID:44829
END:VEVENT
BEGIN:VEVENT
DTSTAMP;TZID=Asia/Hong_Kong:20260425T111632
DTSTART;TZID=Asia/Hong_Kong:20251027T183000
DTEND;TZID=Asia/Hong_Kong:20251027T200000
LOCATION:Room 209, Shaw Auditorium
SUMMARY:Six Lessons in Gongbi: A Journey Through Chinese Ink Painting工筆六課：中國畫的筆墨之旅
UID:44829
END:VEVENT
BEGIN:VEVENT
DTSTAMP;TZID=Asia/Hong_Kong:20260425T111632
DTSTART;TZID=Asia/Hong_Kong:20251103T183000
DTEND;TZID=Asia/Hong_Kong:20251103T200000
LOCATION:Room 209, Shaw Auditorium
SUMMARY:Six Lessons in Gongbi: A Journey Through Chinese Ink Painting工筆六課：中國畫的筆墨之旅
UID:44829
END:VEVENT
BEGIN:VEVENT
DTSTAMP;TZID=Asia/Hong_Kong:20260425T111632
DTSTART;TZID=Asia/Hong_Kong:20251110T183000
DTEND;TZID=Asia/Hong_Kong:20251110T200000
LOCATION:Room 209, Shaw Auditorium
SUMMARY:Six Lessons in Gongbi: A Journey Through Chinese Ink Painting工筆六課：中國畫的筆墨之旅
UID:44829
END:VEVENT
BEGIN:VEVENT
DTSTAMP;TZID=Asia/Hong_Kong:20260425T111632
DTSTART;TZID=Asia/Hong_Kong:20251117T183000
DTEND;TZID=Asia/Hong_Kong:20251117T200000
LOCATION:Room 209, Shaw Auditorium
SUMMARY:Six Lessons in Gongbi: A Journey Through Chinese Ink Painting工筆六課：中國畫的筆墨之旅
UID:44829
END:VEVENT
END:VCALENDAR