BEGIN:VCALENDAR
PRODID:-//HKUST Drupal Platform//EN
VERSION:2.0
BEGIN:VTIMEZONE
TZID:Asia/Hong_Kong
BEGIN:STANDARD
DTSTART:20071104T020000
TZOFFSETFROM:+0700
TZOFFSETTO:+0800
TZNAME:HKT
END:STANDARD
END:VTIMEZONE
BEGIN:VEVENT
DTSTAMP;TZID=Asia/Hong_Kong:20260423T073552
DTSTART;TZID=Asia/Hong_Kong:20251028T191500
DTEND;TZID=Asia/Hong_Kong:20251028T203500
LOCATION:Main Hall, Shaw Auditorium
SUMMARY:一桌兩椅慈善基金《粵劇玩具總動員》 Xiqu Toy Story by One Table Two Chairs Charitable Foundation
UID:44828
END:VEVENT
END:VCALENDAR