BEGIN:VCALENDAR
PRODID:-//HKUST Drupal Platform//EN
VERSION:2.0
BEGIN:VTIMEZONE
TZID:Asia/Hong_Kong
BEGIN:STANDARD
DTSTART:20071104T020000
TZOFFSETFROM:+0700
TZOFFSETTO:+0800
TZNAME:HKT
END:STANDARD
END:VTIMEZONE
BEGIN:VEVENT
DTSTAMP;TZID=Asia/Hong_Kong:20260421T022932
DTSTART;TZID=Asia/Hong_Kong:20250813T163000
DTEND;TZID=Asia/Hong_Kong:20250813T193000
LOCATION:Room 2548 + Room 2549 (Lifts 27-28), 2/F Academic Building; https://hkust.zoom.us/j/95584576444?pwd=cbUGr5On6xGWZ5QCubJ0CZyhrcuWvQ.1 (Meeting ID: 955 8457 6444 Passcode: 886332), HKUST
SUMMARY:PHD in Mechanical Engineering - In-situ Polymerized Quasi-solid-state Electrolytes for Advanced Lithium Metal Batteries
UID:44811
END:VEVENT
END:VCALENDAR