BEGIN:VCALENDAR
PRODID:-//HKUST Drupal Platform//EN
VERSION:2.0
BEGIN:VTIMEZONE
TZID:Asia/Hong_Kong
BEGIN:STANDARD
DTSTART:20071104T020000
TZOFFSETFROM:+0700
TZOFFSETTO:+0800
TZNAME:HKT
END:STANDARD
END:VTIMEZONE
BEGIN:VEVENT
DTSTAMP;TZID=Asia/Hong_Kong:20260421T004704
DTSTART;TZID=Asia/Hong_Kong:20250825T150000
DTEND;TZID=Asia/Hong_Kong:20250825T180000
LOCATION:Room 2408 (Lifts 17-18), 2/F Academic Building, HKUST
SUMMARY:PHD in Computer Science & Engg - Advances in Transfer Learning: Handling Domains with Set-Valued Outputs and Data Streams with Continuous Covariate Shifts and Noisy Samples
UID:44807
END:VEVENT
END:VCALENDAR