BEGIN:VCALENDAR
PRODID:-//HKUST Drupal Platform//EN
VERSION:2.0
BEGIN:VTIMEZONE
TZID:Asia/Hong_Kong
BEGIN:STANDARD
DTSTART:20071104T020000
TZOFFSETFROM:+0700
TZOFFSETTO:+0800
TZNAME:HKT
END:STANDARD
END:VTIMEZONE
BEGIN:VEVENT
DTSTAMP;TZID=Asia/Hong_Kong:20260421T032643
DTSTART;TZID=Asia/Hong_Kong:20250812T160000
DTEND;TZID=Asia/Hong_Kong:20250812T190000
LOCATION:Room 5560 (Lifts 27/28), 5/F. Academic Building; https://hkust.zoom.us/j/98376100986?pwd=8a39KMjra4NabZT86t4PWvlIF8dvmQ.1 (Meeting ID: 983 7610 0986 Passcode: 12), HKUST
SUMMARY:PHD in Mechanical Engineering - Structural Intelligence in Soft Robotics: Bio-inspired Manipulation, Metamaterial Locomotion, and Embedded Sensing
UID:44790
END:VEVENT
END:VCALENDAR