BEGIN:VCALENDAR
PRODID:-//HKUST Drupal Platform//EN
VERSION:2.0
BEGIN:VTIMEZONE
TZID:Asia/Hong_Kong
BEGIN:STANDARD
DTSTART:20071104T020000
TZOFFSETFROM:+0700
TZOFFSETTO:+0800
TZNAME:HKT
END:STANDARD
END:VTIMEZONE
BEGIN:VEVENT
DTSTAMP;TZID=Asia/Hong_Kong:20260420T232821
DTSTART;TZID=Asia/Hong_Kong:20250819T140000
DTEND;TZID=Asia/Hong_Kong:20250819T170000
LOCATION:Room 5560 (Lifts 27-28), HKUST
SUMMARY:PHD in Chem & Biomolecular Engg - Advanced Electrocatalysts for Anion Exchange Membrane Fuel Cells
UID:44788
END:VEVENT
END:VCALENDAR