BEGIN:VCALENDAR
PRODID:-//HKUST Drupal Platform//EN
VERSION:2.0
BEGIN:VTIMEZONE
TZID:Asia/Hong_Kong
BEGIN:STANDARD
DTSTART:20071104T020000
TZOFFSETFROM:+0700
TZOFFSETTO:+0800
TZNAME:HKT
END:STANDARD
END:VTIMEZONE
BEGIN:VEVENT
DTSTAMP;TZID=Asia/Hong_Kong:20260421T020738
DTSTART;TZID=Asia/Hong_Kong:20250812T103000
DTEND;TZID=Asia/Hong_Kong:20250812T133000
LOCATION:Room 5560 (Lifts 27/28), 5/F. Academic Building; Zoom Meeting Link: https://hkust.zoom.us/j/92395452688?pwd=Mkk5YR3UnKkM7VjDt20GaXE4INTrO4.1 (Meeting ID: 923 9545 2688, Passcode: 207280), HKUST
SUMMARY:PHD in Mechanical Engineering - Learning-Augmented 3D Perception and Reconstruction for Autonomous Robotic Systems
UID:44752
END:VEVENT
END:VCALENDAR