BEGIN:VCALENDAR
PRODID:-//HKUST Drupal Platform//EN
VERSION:2.0
BEGIN:VTIMEZONE
TZID:Asia/Hong_Kong
BEGIN:STANDARD
DTSTART:20071104T020000
TZOFFSETFROM:+0700
TZOFFSETTO:+0800
TZNAME:HKT
END:STANDARD
END:VTIMEZONE
BEGIN:VEVENT
DTSTAMP;TZID=Asia/Hong_Kong:20260420T232820
DTSTART;TZID=Asia/Hong_Kong:20250820T103000
DTEND;TZID=Asia/Hong_Kong:20250820T133000
LOCATION:Room 5506 (Lifts 25-26), 5/F Academic Building, HKUST
SUMMARY:PHD in Marine Environmental Sci - Ecological and Biotechnological Aspects of Hydrocarbon Biosynthesis in Marine Cyanobacteria
UID:44723
END:VEVENT
END:VCALENDAR