BEGIN:VCALENDAR
PRODID:-//HKUST Drupal Platform//EN
VERSION:2.0
BEGIN:VTIMEZONE
TZID:Asia/Hong_Kong
BEGIN:STANDARD
DTSTART:20071104T020000
TZOFFSETFROM:+0700
TZOFFSETTO:+0800
TZNAME:HKT
END:STANDARD
END:VTIMEZONE
BEGIN:VEVENT
DTSTAMP;TZID=Asia/Hong_Kong:20260420T192900
DTSTART;TZID=Asia/Hong_Kong:20250819T160000
DTEND;TZID=Asia/Hong_Kong:20250819T190000
LOCATION:Room 5560 (Lifts 27-28), HKUST
SUMMARY:PHD in Chem & Biomolecular Engg - Self-supported Electrocatalysts towards Oxygen Evolution Reaction in Anion Exchange Membrane Water Electrolyzer
UID:44712
END:VEVENT
END:VCALENDAR