BEGIN:VCALENDAR
PRODID:-//HKUST Drupal Platform//EN
VERSION:2.0
BEGIN:VTIMEZONE
TZID:Asia/Hong_Kong
BEGIN:STANDARD
DTSTART:20071104T020000
TZOFFSETFROM:+0700
TZOFFSETTO:+0800
TZNAME:HKT
END:STANDARD
END:VTIMEZONE
BEGIN:VEVENT
DTSTAMP;TZID=Asia/Hong_Kong:20260420T192900
DTSTART;TZID=Asia/Hong_Kong:20250822T150000
DTEND;TZID=Asia/Hong_Kong:20250822T180000
LOCATION:Room 5504 (Lifts 25-26), 5/F Academic Building, HKUST
SUMMARY:MPhil in Computer Science & Engg - Leveraging Mutual Information in Algorithm-Assisted Dynamic Feature Selection for Short-term SOx Emissions Forecasting
UID:44711
END:VEVENT
END:VCALENDAR