BEGIN:VCALENDAR
PRODID:-//HKUST Drupal Platform//EN
VERSION:2.0
BEGIN:VTIMEZONE
TZID:Asia/Hong_Kong
BEGIN:STANDARD
DTSTART:20071104T020000
TZOFFSETFROM:+0700
TZOFFSETTO:+0800
TZNAME:HKT
END:STANDARD
END:VTIMEZONE
BEGIN:VEVENT
DTSTAMP;TZID=Asia/Hong_Kong:20260421T010342
DTSTART;TZID=Asia/Hong_Kong:20250729T153000
DTEND;TZID=Asia/Hong_Kong:20250729T183000
LOCATION:Room 5501 (Lifts 25-26), 5/F Academic Building, HKUST
SUMMARY:PHD in Computer Science & Engg - Towards Bridging Human Requirements and Program Synthesis
UID:44703
END:VEVENT
END:VCALENDAR