BEGIN:VCALENDAR
PRODID:-//HKUST Drupal Platform//EN
VERSION:2.0
BEGIN:VTIMEZONE
TZID:Asia/Hong_Kong
BEGIN:STANDARD
DTSTART:20071104T020000
TZOFFSETFROM:+0700
TZOFFSETTO:+0800
TZNAME:HKT
END:STANDARD
END:VTIMEZONE
BEGIN:VEVENT
DTSTAMP;TZID=Asia/Hong_Kong:20260421T004632
DTSTART;TZID=Asia/Hong_Kong:20250812T103000
DTEND;TZID=Asia/Hong_Kong:20250812T133000
LOCATION:Room 4472 (Lifts 25-26), 4/F Academic Building, HKUST
SUMMARY:MPhil in Life Science - High-throughput screening of functional mutations in a bacterial cell-division gene circuit using a microfluidic imaging platform
UID:44700
END:VEVENT
END:VCALENDAR