BEGIN:VCALENDAR
PRODID:-//HKUST Drupal Platform//EN
VERSION:2.0
BEGIN:VTIMEZONE
TZID:Asia/Hong_Kong
BEGIN:STANDARD
DTSTART:20071104T020000
TZOFFSETFROM:+0700
TZOFFSETTO:+0800
TZNAME:HKT
END:STANDARD
END:VTIMEZONE
BEGIN:VEVENT
DTSTAMP;TZID=Asia/Hong_Kong:20260421T004706
DTSTART;TZID=Asia/Hong_Kong:20250814T100000
DTEND;TZID=Asia/Hong_Kong:20250814T130000
LOCATION:Room 5510 (Lifts 25-26), 5/F Academic Building, HKUST
SUMMARY:PHD in Life Science - Dimethyl-labeling Based Biotinylproteomics Study of Mechanoresponse in Arabidopsis Thaliana
UID:44697
END:VEVENT
END:VCALENDAR