BEGIN:VCALENDAR
PRODID:-//HKUST Drupal Platform//EN
VERSION:2.0
BEGIN:VTIMEZONE
TZID:Asia/Hong_Kong
BEGIN:STANDARD
DTSTART:20071104T020000
TZOFFSETFROM:+0700
TZOFFSETTO:+0800
TZNAME:HKT
END:STANDARD
END:VTIMEZONE
BEGIN:VEVENT
DTSTAMP;TZID=Asia/Hong_Kong:20260420T193944
DTSTART;TZID=Asia/Hong_Kong:20250819T090000
DTEND;TZID=Asia/Hong_Kong:20250819T120000
LOCATION:ZOOM:  975 0133 4750, Password:703880;  W1-222, Guangzhou Campus, HKUST
SUMMARY:PHD in Individual Interdisci Prog - Miniaturized and Integrated Microfluidic Platforms for Rapid Pathogen Detection and Its Application in Medical Diagnosis, Food Safety and Animal Disease
UID:44684
END:VEVENT
END:VCALENDAR