BEGIN:VCALENDAR
PRODID:-//HKUST Drupal Platform//EN
VERSION:2.0
BEGIN:VTIMEZONE
TZID:Asia/Hong_Kong
BEGIN:STANDARD
DTSTART:20071104T020000
TZOFFSETFROM:+0700
TZOFFSETTO:+0800
TZNAME:HKT
END:STANDARD
END:VTIMEZONE
BEGIN:VEVENT
DTSTAMP;TZID=Asia/Hong_Kong:20260421T020739
DTSTART;TZID=Asia/Hong_Kong:20250811T143000
DTEND;TZID=Asia/Hong_Kong:20250811T173000
LOCATION:Room 4472 (Lifts 25-26), 4/F Academic Building, HKUST
SUMMARY:MPhil in Life Science - A multi-modal approach to decipher cellular resilience for improving healthspan
UID:44678
END:VEVENT
END:VCALENDAR