BEGIN:VCALENDAR
PRODID:-//HKUST Drupal Platform//EN
VERSION:2.0
BEGIN:VTIMEZONE
TZID:Asia/Hong_Kong
BEGIN:STANDARD
DTSTART:20071104T020000
TZOFFSETFROM:+0700
TZOFFSETTO:+0800
TZNAME:HKT
END:STANDARD
END:VTIMEZONE
BEGIN:VEVENT
DTSTAMP;TZID=Asia/Hong_Kong:20260421T004629
DTSTART;TZID=Asia/Hong_Kong:20250818T140000
DTEND;TZID=Asia/Hong_Kong:20250818T170000
LOCATION:Room 5508 (Lifts 25-26), 5/F Academic Building, HKUST
SUMMARY:MPhil in Life Science - Characterization of PRX-5 Receptor Accumulation and Degradation in C. elegans
UID:44676
END:VEVENT
END:VCALENDAR