BEGIN:VCALENDAR
PRODID:-//HKUST Drupal Platform//EN
VERSION:2.0
BEGIN:VTIMEZONE
TZID:Asia/Hong_Kong
BEGIN:STANDARD
DTSTART:20071104T020000
TZOFFSETFROM:+0700
TZOFFSETTO:+0800
TZNAME:HKT
END:STANDARD
END:VTIMEZONE
BEGIN:VEVENT
DTSTAMP;TZID=Asia/Hong_Kong:20260420T233951
DTSTART;TZID=Asia/Hong_Kong:20250808T150000
DTEND;TZID=Asia/Hong_Kong:20250808T180000
LOCATION:Room 5508 (Lifts 25-26), 5/F Academic Building, HKUST
SUMMARY:MPhil in Life Science - High-throughput Imaging of Global Transcriptional Dynamics in Single Bacterial Cells
UID:44675
END:VEVENT
END:VCALENDAR