BEGIN:VCALENDAR
PRODID:-//HKUST Drupal Platform//EN
VERSION:2.0
BEGIN:VTIMEZONE
TZID:Asia/Hong_Kong
BEGIN:STANDARD
DTSTART:20071104T020000
TZOFFSETFROM:+0700
TZOFFSETTO:+0800
TZNAME:HKT
END:STANDARD
END:VTIMEZONE
BEGIN:VEVENT
DTSTAMP;TZID=Asia/Hong_Kong:20260420T221007
DTSTART;TZID=Asia/Hong_Kong:20250819T090000
DTEND;TZID=Asia/Hong_Kong:20250819T120000
LOCATION:Room 5560 (Lifts 27-28), HKUST
SUMMARY:MPhil in Chem & Biomolecular Engg - Towards High Energy Density Sodium-Ion Batteries
UID:44664
END:VEVENT
END:VCALENDAR