BEGIN:VCALENDAR
PRODID:-//HKUST Drupal Platform//EN
VERSION:2.0
BEGIN:VTIMEZONE
TZID:Asia/Hong_Kong
BEGIN:STANDARD
DTSTART:20071104T020000
TZOFFSETFROM:+0700
TZOFFSETTO:+0800
TZNAME:HKT
END:STANDARD
END:VTIMEZONE
BEGIN:VEVENT
DTSTAMP;TZID=Asia/Hong_Kong:20260420T220947
DTSTART;TZID=Asia/Hong_Kong:20250819T090000
DTEND;TZID=Asia/Hong_Kong:20250819T120000
LOCATION:Room 5554 (Lifts 27-28), 5/F Academic Building, HKUST
SUMMARY:MPhil in Industrial Engg&Deci Ana - A Tale of Two Systems: Competition and Coordination in DEI- and Merit-Based Job Markets
UID:44662
END:VEVENT
END:VCALENDAR