BEGIN:VCALENDAR
PRODID:-//HKUST Drupal Platform//EN
VERSION:2.0
BEGIN:VTIMEZONE
TZID:Asia/Hong_Kong
BEGIN:STANDARD
DTSTART:20071104T020000
TZOFFSETFROM:+0700
TZOFFSETTO:+0800
TZNAME:HKT
END:STANDARD
END:VTIMEZONE
BEGIN:VEVENT
DTSTAMP;TZID=Asia/Hong_Kong:20260420T232821
DTSTART;TZID=Asia/Hong_Kong:20250819T103000
DTEND;TZID=Asia/Hong_Kong:20250819T133000
LOCATION:Room 5554 (Lifts 27-28), 5/F Academic Building, HKUST
SUMMARY:MPhil in Industrial Engg&Deci Ana - Depth-first or Breadth-first Searching: Which One Benefits More in Search Markets?
UID:44661
END:VEVENT
END:VCALENDAR