BEGIN:VCALENDAR
PRODID:-//HKUST Drupal Platform//EN
VERSION:2.0
BEGIN:VTIMEZONE
TZID:Asia/Hong_Kong
BEGIN:STANDARD
DTSTART:20071104T020000
TZOFFSETFROM:+0700
TZOFFSETTO:+0800
TZNAME:HKT
END:STANDARD
END:VTIMEZONE
BEGIN:VEVENT
DTSTAMP;TZID=Asia/Hong_Kong:20260424T075941
DTSTART;TZID=Asia/Hong_Kong:20250915T190000
DTEND;TZID=Asia/Hong_Kong:20250915T203000
LOCATION:G19 Multi-Purpose Room, The Jockey Club Global Graduate Tower (GGT) 
SUMMARY:Tap Dance Workshops: For Beginners & Advanced Beginners
UID:44657
END:VEVENT
BEGIN:VEVENT
DTSTAMP;TZID=Asia/Hong_Kong:20260424T075941
DTSTART;TZID=Asia/Hong_Kong:20250916T190000
DTEND;TZID=Asia/Hong_Kong:20250916T203000
LOCATION:G19 Multi-Purpose Room, The Jockey Club Global Graduate Tower (GGT) 
SUMMARY:Tap Dance Workshops: For Beginners & Advanced Beginners
UID:44657
END:VEVENT
BEGIN:VEVENT
DTSTAMP;TZID=Asia/Hong_Kong:20260424T075941
DTSTART;TZID=Asia/Hong_Kong:20250917T190000
DTEND;TZID=Asia/Hong_Kong:20250917T203000
LOCATION:G19 Multi-Purpose Room, The Jockey Club Global Graduate Tower (GGT) 
SUMMARY:Tap Dance Workshops: For Beginners & Advanced Beginners
UID:44657
END:VEVENT
BEGIN:VEVENT
DTSTAMP;TZID=Asia/Hong_Kong:20260424T075941
DTSTART;TZID=Asia/Hong_Kong:20250918T190000
DTEND;TZID=Asia/Hong_Kong:20250918T203000
LOCATION:G19 Multi-Purpose Room, The Jockey Club Global Graduate Tower (GGT) 
SUMMARY:Tap Dance Workshops: For Beginners & Advanced Beginners
UID:44657
END:VEVENT
BEGIN:VEVENT
DTSTAMP;TZID=Asia/Hong_Kong:20260424T075941
DTSTART;TZID=Asia/Hong_Kong:20250919T190000
DTEND;TZID=Asia/Hong_Kong:20250919T203000
LOCATION:G19 Multi-Purpose Room, The Jockey Club Global Graduate Tower (GGT) 
SUMMARY:Tap Dance Workshops: For Beginners & Advanced Beginners
UID:44657
END:VEVENT
BEGIN:VEVENT
DTSTAMP;TZID=Asia/Hong_Kong:20260424T075941
DTSTART;TZID=Asia/Hong_Kong:20250920T190000
DTEND;TZID=Asia/Hong_Kong:20250920T203000
LOCATION:G19 Multi-Purpose Room, The Jockey Club Global Graduate Tower (GGT) 
SUMMARY:Tap Dance Workshops: For Beginners & Advanced Beginners
UID:44657
END:VEVENT
BEGIN:VEVENT
DTSTAMP;TZID=Asia/Hong_Kong:20260424T075941
DTSTART;TZID=Asia/Hong_Kong:20250921T190000
DTEND;TZID=Asia/Hong_Kong:20250921T203000
LOCATION:G19 Multi-Purpose Room, The Jockey Club Global Graduate Tower (GGT) 
SUMMARY:Tap Dance Workshops: For Beginners & Advanced Beginners
UID:44657
END:VEVENT
BEGIN:VEVENT
DTSTAMP;TZID=Asia/Hong_Kong:20260424T075941
DTSTART;TZID=Asia/Hong_Kong:20250922T190000
DTEND;TZID=Asia/Hong_Kong:20250922T203000
LOCATION:G19 Multi-Purpose Room, The Jockey Club Global Graduate Tower (GGT) 
SUMMARY:Tap Dance Workshops: For Beginners & Advanced Beginners
UID:44657
END:VEVENT
BEGIN:VEVENT
DTSTAMP;TZID=Asia/Hong_Kong:20260424T075941
DTSTART;TZID=Asia/Hong_Kong:20250923T190000
DTEND;TZID=Asia/Hong_Kong:20250923T203000
LOCATION:G19 Multi-Purpose Room, The Jockey Club Global Graduate Tower (GGT) 
SUMMARY:Tap Dance Workshops: For Beginners & Advanced Beginners
UID:44657
END:VEVENT
BEGIN:VEVENT
DTSTAMP;TZID=Asia/Hong_Kong:20260424T075941
DTSTART;TZID=Asia/Hong_Kong:20250924T190000
DTEND;TZID=Asia/Hong_Kong:20250924T203000
LOCATION:G19 Multi-Purpose Room, The Jockey Club Global Graduate Tower (GGT) 
SUMMARY:Tap Dance Workshops: For Beginners & Advanced Beginners
UID:44657
END:VEVENT
BEGIN:VEVENT
DTSTAMP;TZID=Asia/Hong_Kong:20260424T075941
DTSTART;TZID=Asia/Hong_Kong:20250925T190000
DTEND;TZID=Asia/Hong_Kong:20250925T203000
LOCATION:G19 Multi-Purpose Room, The Jockey Club Global Graduate Tower (GGT) 
SUMMARY:Tap Dance Workshops: For Beginners & Advanced Beginners
UID:44657
END:VEVENT
BEGIN:VEVENT
DTSTAMP;TZID=Asia/Hong_Kong:20260424T075941
DTSTART;TZID=Asia/Hong_Kong:20250926T190000
DTEND;TZID=Asia/Hong_Kong:20250926T203000
LOCATION:G19 Multi-Purpose Room, The Jockey Club Global Graduate Tower (GGT) 
SUMMARY:Tap Dance Workshops: For Beginners & Advanced Beginners
UID:44657
END:VEVENT
BEGIN:VEVENT
DTSTAMP;TZID=Asia/Hong_Kong:20260424T075941
DTSTART;TZID=Asia/Hong_Kong:20250927T190000
DTEND;TZID=Asia/Hong_Kong:20250927T203000
LOCATION:G19 Multi-Purpose Room, The Jockey Club Global Graduate Tower (GGT) 
SUMMARY:Tap Dance Workshops: For Beginners & Advanced Beginners
UID:44657
END:VEVENT
BEGIN:VEVENT
DTSTAMP;TZID=Asia/Hong_Kong:20260424T075941
DTSTART;TZID=Asia/Hong_Kong:20250928T190000
DTEND;TZID=Asia/Hong_Kong:20250928T203000
LOCATION:G19 Multi-Purpose Room, The Jockey Club Global Graduate Tower (GGT) 
SUMMARY:Tap Dance Workshops: For Beginners & Advanced Beginners
UID:44657
END:VEVENT
BEGIN:VEVENT
DTSTAMP;TZID=Asia/Hong_Kong:20260424T075941
DTSTART;TZID=Asia/Hong_Kong:20250929T190000
DTEND;TZID=Asia/Hong_Kong:20250929T203000
LOCATION:G19 Multi-Purpose Room, The Jockey Club Global Graduate Tower (GGT) 
SUMMARY:Tap Dance Workshops: For Beginners & Advanced Beginners
UID:44657
END:VEVENT
BEGIN:VEVENT
DTSTAMP;TZID=Asia/Hong_Kong:20260424T075941
DTSTART;TZID=Asia/Hong_Kong:20250930T190000
DTEND;TZID=Asia/Hong_Kong:20250930T203000
LOCATION:G19 Multi-Purpose Room, The Jockey Club Global Graduate Tower (GGT) 
SUMMARY:Tap Dance Workshops: For Beginners & Advanced Beginners
UID:44657
END:VEVENT
BEGIN:VEVENT
DTSTAMP;TZID=Asia/Hong_Kong:20260424T075941
DTSTART;TZID=Asia/Hong_Kong:20251001T190000
DTEND;TZID=Asia/Hong_Kong:20251001T203000
LOCATION:G19 Multi-Purpose Room, The Jockey Club Global Graduate Tower (GGT) 
SUMMARY:Tap Dance Workshops: For Beginners & Advanced Beginners
UID:44657
END:VEVENT
BEGIN:VEVENT
DTSTAMP;TZID=Asia/Hong_Kong:20260424T075941
DTSTART;TZID=Asia/Hong_Kong:20251002T190000
DTEND;TZID=Asia/Hong_Kong:20251002T203000
LOCATION:G19 Multi-Purpose Room, The Jockey Club Global Graduate Tower (GGT) 
SUMMARY:Tap Dance Workshops: For Beginners & Advanced Beginners
UID:44657
END:VEVENT
BEGIN:VEVENT
DTSTAMP;TZID=Asia/Hong_Kong:20260424T075941
DTSTART;TZID=Asia/Hong_Kong:20251003T190000
DTEND;TZID=Asia/Hong_Kong:20251003T203000
LOCATION:G19 Multi-Purpose Room, The Jockey Club Global Graduate Tower (GGT) 
SUMMARY:Tap Dance Workshops: For Beginners & Advanced Beginners
UID:44657
END:VEVENT
BEGIN:VEVENT
DTSTAMP;TZID=Asia/Hong_Kong:20260424T075941
DTSTART;TZID=Asia/Hong_Kong:20251004T190000
DTEND;TZID=Asia/Hong_Kong:20251004T203000
LOCATION:G19 Multi-Purpose Room, The Jockey Club Global Graduate Tower (GGT) 
SUMMARY:Tap Dance Workshops: For Beginners & Advanced Beginners
UID:44657
END:VEVENT
BEGIN:VEVENT
DTSTAMP;TZID=Asia/Hong_Kong:20260424T075941
DTSTART;TZID=Asia/Hong_Kong:20251005T190000
DTEND;TZID=Asia/Hong_Kong:20251005T203000
LOCATION:G19 Multi-Purpose Room, The Jockey Club Global Graduate Tower (GGT) 
SUMMARY:Tap Dance Workshops: For Beginners & Advanced Beginners
UID:44657
END:VEVENT
BEGIN:VEVENT
DTSTAMP;TZID=Asia/Hong_Kong:20260424T075941
DTSTART;TZID=Asia/Hong_Kong:20251006T190000
DTEND;TZID=Asia/Hong_Kong:20251006T203000
LOCATION:G19 Multi-Purpose Room, The Jockey Club Global Graduate Tower (GGT) 
SUMMARY:Tap Dance Workshops: For Beginners & Advanced Beginners
UID:44657
END:VEVENT
BEGIN:VEVENT
DTSTAMP;TZID=Asia/Hong_Kong:20260424T075941
DTSTART;TZID=Asia/Hong_Kong:20251007T190000
DTEND;TZID=Asia/Hong_Kong:20251007T203000
LOCATION:G19 Multi-Purpose Room, The Jockey Club Global Graduate Tower (GGT) 
SUMMARY:Tap Dance Workshops: For Beginners & Advanced Beginners
UID:44657
END:VEVENT
BEGIN:VEVENT
DTSTAMP;TZID=Asia/Hong_Kong:20260424T075941
DTSTART;TZID=Asia/Hong_Kong:20251008T190000
DTEND;TZID=Asia/Hong_Kong:20251008T203000
LOCATION:G19 Multi-Purpose Room, The Jockey Club Global Graduate Tower (GGT) 
SUMMARY:Tap Dance Workshops: For Beginners & Advanced Beginners
UID:44657
END:VEVENT
BEGIN:VEVENT
DTSTAMP;TZID=Asia/Hong_Kong:20260424T075941
DTSTART;TZID=Asia/Hong_Kong:20251009T190000
DTEND;TZID=Asia/Hong_Kong:20251009T203000
LOCATION:G19 Multi-Purpose Room, The Jockey Club Global Graduate Tower (GGT) 
SUMMARY:Tap Dance Workshops: For Beginners & Advanced Beginners
UID:44657
END:VEVENT
BEGIN:VEVENT
DTSTAMP;TZID=Asia/Hong_Kong:20260424T075941
DTSTART;TZID=Asia/Hong_Kong:20251010T190000
DTEND;TZID=Asia/Hong_Kong:20251010T203000
LOCATION:G19 Multi-Purpose Room, The Jockey Club Global Graduate Tower (GGT) 
SUMMARY:Tap Dance Workshops: For Beginners & Advanced Beginners
UID:44657
END:VEVENT
BEGIN:VEVENT
DTSTAMP;TZID=Asia/Hong_Kong:20260424T075941
DTSTART;TZID=Asia/Hong_Kong:20251011T190000
DTEND;TZID=Asia/Hong_Kong:20251011T203000
LOCATION:G19 Multi-Purpose Room, The Jockey Club Global Graduate Tower (GGT) 
SUMMARY:Tap Dance Workshops: For Beginners & Advanced Beginners
UID:44657
END:VEVENT
BEGIN:VEVENT
DTSTAMP;TZID=Asia/Hong_Kong:20260424T075941
DTSTART;TZID=Asia/Hong_Kong:20251012T190000
DTEND;TZID=Asia/Hong_Kong:20251012T203000
LOCATION:G19 Multi-Purpose Room, The Jockey Club Global Graduate Tower (GGT) 
SUMMARY:Tap Dance Workshops: For Beginners & Advanced Beginners
UID:44657
END:VEVENT
BEGIN:VEVENT
DTSTAMP;TZID=Asia/Hong_Kong:20260424T075941
DTSTART;TZID=Asia/Hong_Kong:20251013T190000
DTEND;TZID=Asia/Hong_Kong:20251013T203000
LOCATION:G19 Multi-Purpose Room, The Jockey Club Global Graduate Tower (GGT) 
SUMMARY:Tap Dance Workshops: For Beginners & Advanced Beginners
UID:44657
END:VEVENT
BEGIN:VEVENT
DTSTAMP;TZID=Asia/Hong_Kong:20260424T075941
DTSTART;TZID=Asia/Hong_Kong:20251014T190000
DTEND;TZID=Asia/Hong_Kong:20251014T203000
LOCATION:G19 Multi-Purpose Room, The Jockey Club Global Graduate Tower (GGT) 
SUMMARY:Tap Dance Workshops: For Beginners & Advanced Beginners
UID:44657
END:VEVENT
BEGIN:VEVENT
DTSTAMP;TZID=Asia/Hong_Kong:20260424T075941
DTSTART;TZID=Asia/Hong_Kong:20251015T190000
DTEND;TZID=Asia/Hong_Kong:20251015T203000
LOCATION:G19 Multi-Purpose Room, The Jockey Club Global Graduate Tower (GGT) 
SUMMARY:Tap Dance Workshops: For Beginners & Advanced Beginners
UID:44657
END:VEVENT
END:VCALENDAR