BEGIN:VCALENDAR
PRODID:-//HKUST Drupal Platform//EN
VERSION:2.0
BEGIN:VTIMEZONE
TZID:Asia/Hong_Kong
BEGIN:STANDARD
DTSTART:20071104T020000
TZOFFSETFROM:+0700
TZOFFSETTO:+0800
TZNAME:HKT
END:STANDARD
END:VTIMEZONE
BEGIN:VEVENT
DTSTAMP;TZID=Asia/Hong_Kong:20260421T022856
DTSTART;TZID=Asia/Hong_Kong:20250730T084500
DTEND;TZID=Asia/Hong_Kong:20250730T114500
LOCATION:E4 202, HKUST
SUMMARY:PHD in Individual Interdisci Prog - Three Essays on Neighborhood Vitality in China\'s Metropolises
UID:44654
END:VEVENT
END:VCALENDAR