BEGIN:VCALENDAR
PRODID:-//HKUST Drupal Platform//EN
VERSION:2.0
BEGIN:VTIMEZONE
TZID:Asia/Hong_Kong
BEGIN:STANDARD
DTSTART:20071104T020000
TZOFFSETFROM:+0700
TZOFFSETTO:+0800
TZNAME:HKT
END:STANDARD
END:VTIMEZONE
BEGIN:VEVENT
DTSTAMP;TZID=Asia/Hong_Kong:20260421T023011
DTSTART;TZID=Asia/Hong_Kong:20250721T100000
DTEND;TZID=Asia/Hong_Kong:20250721T130000
LOCATION:E3, 2F, Room 202, HKUST(GZ), HKUST
SUMMARY:PHD in Individual Interdisci Prog - A Multi-dimensional Framework for Artificial Intelligence Integration in Game Development across Artistic, Educational, and Environmental Contexts​
UID:44622
END:VEVENT
END:VCALENDAR