BEGIN:VCALENDAR
PRODID:-//HKUST Drupal Platform//EN
VERSION:2.0
BEGIN:VTIMEZONE
TZID:Asia/Hong_Kong
BEGIN:STANDARD
DTSTART:20071104T020000
TZOFFSETFROM:+0700
TZOFFSETTO:+0800
TZNAME:HKT
END:STANDARD
END:VTIMEZONE
BEGIN:VEVENT
DTSTAMP;TZID=Asia/Hong_Kong:20260420T192900
DTSTART;TZID=Asia/Hong_Kong:20250825T153000
DTEND;TZID=Asia/Hong_Kong:20250825T183000
LOCATION:Room 4504 (Lifts 25-26), 4/F Academic Building, HKUST
SUMMARY:PHD in Chemistry - Design and Application of Spirocyclic Catalysts for Asymmetric Synthesis
UID:44619
END:VEVENT
END:VCALENDAR