BEGIN:VCALENDAR
PRODID:-//HKUST Drupal Platform//EN
VERSION:2.0
BEGIN:VTIMEZONE
TZID:Asia/Hong_Kong
BEGIN:STANDARD
DTSTART:20071104T020000
TZOFFSETFROM:+0700
TZOFFSETTO:+0800
TZNAME:HKT
END:STANDARD
END:VTIMEZONE
BEGIN:VEVENT
DTSTAMP;TZID=Asia/Hong_Kong:20260421T022856
DTSTART;TZID=Asia/Hong_Kong:20250728T133000
DTEND;TZID=Asia/Hong_Kong:20250728T163000
LOCATION:Room 2550 + Room 2551 (Lifts 27-28), 2/F Academic Building; Zoom meeting link: https://hkust.zoom.us/j/91462903439?pwd=OUfKh8PENJRwXOJ1tIoCbgNooYfhxQ.1  Meeting ID: 914 6290 3439 Passcode: 123456, HKUST
SUMMARY:PHD in Mechanical Engineering - Experimental Aeroacoustics of Lifting Surfaces under Complex Flow Conditions
UID:44589
END:VEVENT
END:VCALENDAR