BEGIN:VCALENDAR
PRODID:-//HKUST Drupal Platform//EN
VERSION:2.0
BEGIN:VTIMEZONE
TZID:Asia/Hong_Kong
BEGIN:STANDARD
DTSTART:20071104T020000
TZOFFSETFROM:+0700
TZOFFSETTO:+0800
TZNAME:HKT
END:STANDARD
END:VTIMEZONE
BEGIN:VEVENT
DTSTAMP;TZID=Asia/Hong_Kong:20260420T193948
DTSTART;TZID=Asia/Hong_Kong:20250822T143000
DTEND;TZID=Asia/Hong_Kong:20250822T173000
LOCATION:Room 5508 (Lifts 25-26), 5/F Academic Building, HKUST
SUMMARY:MPhil in Marine Environmental Sci - Optimization of Electroporation-Mediated Transformation for Genetic Engineering in Marine Synechococcus WH7803
UID:44583
END:VEVENT
END:VCALENDAR