BEGIN:VCALENDAR
PRODID:-//HKUST Drupal Platform//EN
VERSION:2.0
BEGIN:VTIMEZONE
TZID:Asia/Hong_Kong
BEGIN:STANDARD
DTSTART:20071104T020000
TZOFFSETFROM:+0700
TZOFFSETTO:+0800
TZNAME:HKT
END:STANDARD
END:VTIMEZONE
BEGIN:VEVENT
DTSTAMP;TZID=Asia/Hong_Kong:20260421T011728
DTSTART;TZID=Asia/Hong_Kong:20250728T100000
DTEND;TZID=Asia/Hong_Kong:20250728T130000
LOCATION:Room 4504 (Lifts 25-26), 4/F Academic Building, HKUST
SUMMARY:PHD in Life Science - Investigating Molecular Mechanisms of Protein Export from the Endoplasmic Reticulum and Identifying Host Factors for SARS-CoV-2 Entry
UID:44542
END:VEVENT
END:VCALENDAR