BEGIN:VCALENDAR
PRODID:-//HKUST Drupal Platform//EN
VERSION:2.0
BEGIN:VTIMEZONE
TZID:Asia/Hong_Kong
BEGIN:STANDARD
DTSTART:20071104T020000
TZOFFSETFROM:+0700
TZOFFSETTO:+0800
TZNAME:HKT
END:STANDARD
END:VTIMEZONE
BEGIN:VEVENT
DTSTAMP;TZID=Asia/Hong_Kong:20260421T023011
DTSTART;TZID=Asia/Hong_Kong:20250729T140000
DTEND;TZID=Asia/Hong_Kong:20250729T170000
LOCATION:Room 4502 (Lifts 25-26), 4/F Academic Building, HKUST
SUMMARY:PHD in Life Science - Coregulation of the NDC80 Complex Subunits and their Functional Roles in the Spindle Assembly Checkpoint and Centrosome Clustering
UID:44531
END:VEVENT
END:VCALENDAR