BEGIN:VCALENDAR
PRODID:-//HKUST Drupal Platform//EN
VERSION:2.0
BEGIN:VTIMEZONE
TZID:Asia/Hong_Kong
BEGIN:STANDARD
DTSTART:20071104T020000
TZOFFSETFROM:+0700
TZOFFSETTO:+0800
TZNAME:HKT
END:STANDARD
END:VTIMEZONE
BEGIN:VEVENT
DTSTAMP;TZID=Asia/Hong_Kong:20260420T221009
DTSTART;TZID=Asia/Hong_Kong:20250825T140000
DTEND;TZID=Asia/Hong_Kong:20250825T170000
LOCATION:Room 4472 (Lifts 25-26), 4/F Academic Building, HKUST
SUMMARY:PHD in Marine Environmental Sci - From Genomes to Ecosystems: Decoding Multi-Trophic Diversity and Dynamics in Subtropical Coastal Waters
UID:44530
END:VEVENT
END:VCALENDAR