BEGIN:VCALENDAR
PRODID:-//HKUST Drupal Platform//EN
VERSION:2.0
BEGIN:VTIMEZONE
TZID:Asia/Hong_Kong
BEGIN:STANDARD
DTSTART:20071104T020000
TZOFFSETFROM:+0700
TZOFFSETTO:+0800
TZNAME:HKT
END:STANDARD
END:VTIMEZONE
BEGIN:VEVENT
DTSTAMP;TZID=Asia/Hong_Kong:20260421T011158
DTSTART;TZID=Asia/Hong_Kong:20250814T110000
DTEND;TZID=Asia/Hong_Kong:20250814T140000
LOCATION:Room 5506 (Lifts 25-268), 5/F Academic Building, HKUST
SUMMARY:MPhil in Chemistry - Antimony-Based Perovskites in Energy Storage Devices: A Lead-free Approach to Efficient Batteries and Supercapacitors
UID:44525
END:VEVENT
END:VCALENDAR