BEGIN:VCALENDAR
PRODID:-//HKUST Drupal Platform//EN
VERSION:2.0
BEGIN:VTIMEZONE
TZID:Asia/Hong_Kong
BEGIN:STANDARD
DTSTART:20071104T020000
TZOFFSETFROM:+0700
TZOFFSETTO:+0800
TZNAME:HKT
END:STANDARD
END:VTIMEZONE
BEGIN:VEVENT
DTSTAMP;TZID=Asia/Hong_Kong:20260420T234102
DTSTART;TZID=Asia/Hong_Kong:20250805T150000
DTEND;TZID=Asia/Hong_Kong:20250805T180000
LOCATION:Room 2550 + Room 2551 (Lifts 27-28), 2/F Academic Building; Zoom link: https://hkust.zoom.us/j/98040887794?pwd=hdeBtfYMxw7HDftUQqDVzLGF1VMbyN.1 (Meeting ID: 980 4088 7794; Passcode: 123456), HKUST
SUMMARY:PHD in Mechanical Engineering - Key Aspects of Cycling Aerodynamics
UID:44522
END:VEVENT
END:VCALENDAR