BEGIN:VCALENDAR
PRODID:-//HKUST Drupal Platform//EN
VERSION:2.0
BEGIN:VTIMEZONE
TZID:Asia/Hong_Kong
BEGIN:STANDARD
DTSTART:20071104T020000
TZOFFSETFROM:+0700
TZOFFSETTO:+0800
TZNAME:HKT
END:STANDARD
END:VTIMEZONE
BEGIN:VEVENT
DTSTAMP;TZID=Asia/Hong_Kong:20260421T023011
DTSTART;TZID=Asia/Hong_Kong:20250722T150000
DTEND;TZID=Asia/Hong_Kong:20250722T180000
LOCATION:Zoom: 948 5371 1170; Password: 185028; Room 2408, HKUST
SUMMARY:PHD in Individual Interdisci Prog - Highly-safe Next Generation Ni-rich Lithium-ion batteries Enabled by Thermal Responsive Fire-extinguisher Microcapsules via in vivo & in vitro Strategies
UID:44515
END:VEVENT
END:VCALENDAR