BEGIN:VCALENDAR
PRODID:-//HKUST Drupal Platform//EN
VERSION:2.0
BEGIN:VTIMEZONE
TZID:Asia/Hong_Kong
BEGIN:STANDARD
DTSTART:20071104T020000
TZOFFSETFROM:+0700
TZOFFSETTO:+0800
TZNAME:HKT
END:STANDARD
END:VTIMEZONE
BEGIN:VEVENT
DTSTAMP;TZID=Asia/Hong_Kong:20260421T022858
DTSTART;TZID=Asia/Hong_Kong:20250728T150000
DTEND;TZID=Asia/Hong_Kong:20250728T180000
LOCATION:Room 5560 (Lifts 27-28), HKUST
SUMMARY:MPhil in Chem & Biomolecular Engg - One-pot DNA-bead coupling method for continuous production of synthetic mRNA
UID:44462
END:VEVENT
END:VCALENDAR