BEGIN:VCALENDAR
PRODID:-//HKUST Drupal Platform//EN
VERSION:2.0
BEGIN:VTIMEZONE
TZID:Asia/Hong_Kong
BEGIN:STANDARD
DTSTART:20071104T020000
TZOFFSETFROM:+0700
TZOFFSETTO:+0800
TZNAME:HKT
END:STANDARD
END:VTIMEZONE
BEGIN:VEVENT
DTSTAMP;TZID=Asia/Hong_Kong:20260423T072748
DTSTART;TZID=Asia/Hong_Kong:20250627T093000
DTEND;TZID=Asia/Hong_Kong:20250627T123000
LOCATION:Room 2550 + Room 2551 (Lifts 27-28), 2/F Academic Building; Zoom ID: 3469229888 Passcode: 135246, HKUST
SUMMARY:PHD in Mechanical Engineering - Low-Energy Manufacturing of High-Performance Polymers and Composites via Frontal Ring-Opening Metathesis Polymerization
UID:44456
END:VEVENT
END:VCALENDAR